Workbook

Sheet COA Information
B3: 2025-2026 Cost of Attendance
B5: **Barton develops a Cost of Attendance (COA) based on average costs for the following standard components:
B6: · Tuition and Fees
B7: · Books, Course Materials, Supplies, and Equipment
B8: · Living Expenses (Food and Housing)
B9: · Living Expenses (Food and Housing)
B10: · Living Expenses (Food and Housing)
B12: **Tuition is calculated by In-State and Out-of-State costs. Students with In-District rates are assigned an In-State COA.
B14: **Residency costs for off-campus or with a relative are averaged to alleviate the need for multiple buidgets for residents and non- residents. Barton Student Housing rates are averaged as well.
B16: **Initial awards are based on a full time, Fall/Spring budget and will be adjusted as the student's enrollment requires. The student's budget is based upon the student's actual enrollment status (e.g. full-time, half-time, etc.) during each semester.
B18: **Initial awards are based on a 15 week semester. The student's actual budget will be adjusted depending on weeks beyond or less than a 15 week semester. Components adjusted for this include Room & Board, Personal Expenses and Transportation Expenses.
B20: **On a case-by-case basis, if it is determined through the financial aid verification process that any of the COA components are paid for by a 3rd party, the COA will be adjusted to reflect only those expenses that the student is responsible for during their enrollment period.
... B39: https://www.bartonccc.edu/housing#costs

Sheet In-State Budget
B2: In-State Budgets
B3: Fall | Spring (FS) | C3: Tuition & Fees | D3: Books & Supplies | E3: Personal Expenses | F3: Living Expenses | H3: Transportation | I3: Total | L3: Component Amounts per Week of Attendance
F4: Commuter | G4: On Campus | I4: Commuter | J4: On Campus | L4: Personal Expenses | M4: =$E$5/30 -> 86.666667
B5: Full Time | C5: 4090 | D5: 1520 | E5: 2600 | F5: 10390 | G5: 8168 | H5: 2010 | I5: =SUM($C5,$D5,$E5,$F5,$H5) -> 20610 | J5: =SUM($C5,$D5,$E5,$G5,$H5) -> 18388 | L5: Living Expenses (Commuter) | M5: =$F$5/30 -> 346.33333
B6: Three-Quarter Time | C6: =$C$5*0.75 -> 3067.5 | D6: =$D$5*0.75 -> 1140 | E6: =$E$5 -> 2600 | F6: =$F$5 -> 10390 | G6: =$G$5 -> 8168 | H6: =$H$5 -> 2010 | I6: =SUM($C6,$D6,$E6,$F6,$H6) -> 19207.5 | J6: =SUM($C6,$D6,$E6,$G6,$H6) -> 16985.5 | L6: Living Expenses (On Campus) | M6: =$G$5/30 -> 272.26667
B7: Half-Time | C7: =$C$5*0.5 -> 2045 | D7: =$D$5*0.5 -> 760 | E7: =$E$5 -> 2600 | F7: =$F$5 -> 10390 | G7: =$G$5 -> 8168 | H7: =$H$5 -> 2010 | I7: =SUM($C7,$D7,$E7,$F7,$H7) -> 17805 | J7: =SUM($C7,$D7,$E7,$G7,$H7) -> 15583 | L7: Transportation | M7: =$H$5/30 -> 67
B8: < Half-time | C8: =$C$5*0.25 -> 1022.5 | D8: =$D$5*0.25 -> 380 | E8: 0 | F8: 0 | G8: 0 | H8: =$H$5 -> 2010 | I8: =SUM($C8,$D8,$E8,$F8,$H8) -> 3412.5 | J8: =SUM($C8,$D8,$E8,$G8,$H8) -> 3412.5
B10: Single Term - Fall (F) | C10: Tuition & Fees | D10: Books & Supplies | E10: Personal Expenses | F10: Living Expenses | H10: Transportation | I10: Total
B11: or Spring (S) | F11: Commuter | G11: On Campus | I11: Commuter | J11: On Campus
B12: Full Time | C12: =$C$5*0.5 -> 2045 | D12: =$D$5*0.5 -> 760 | E12: =$E$5*0.5 -> 1300 | F12: =$F$5*0.5 -> 5195 | G12: =$G$5*0.5 -> 4084 | H12: =$H$5*0.5 -> 1005 | I12: =SUM($C12,$D12,$E12,$F12,$H12) -> 10305 | J12: =SUM($C12,$D12,$E12,$G12,$H12) -> 9194
B13: Three-Quarter Time | C13: =$C$12*0.75 -> 1533.75 | D13: =$D$12*0.75 -> 570 | E13: =$E$5*0.5 -> 1300 | F13: =$F$5*0.5 -> 5195 | G13: =$G$5*0.5 -> 4084 | H13: =$H$5*0.5 -> 1005 | I13: =SUM($C13,$D13,$E13,$F13,$H13) -> 9603.75 | J13: =SUM($C13,$D13,$E13,$G13,$H13) -> 8492.75
B14: Half-Time | C14: =$C$12*0.5 -> 1022.5 | D14: =$D$12*0.5 -> 380 | E14: =$E$5*0.5 -> 1300 | F14: =$F$5*0.5 -> 5195 | G14: =$G$5*0.5 -> 4084 | H14: =$H$5*0.5 -> 1005 | I14: =SUM($C14,$D14,$E14,$F14,$H14) -> 8902.5 | J14: =SUM($C14,$D14,$E14,$G14,$H14) -> 7791.5
B15: < Half-time | C15: =$C$12*0.25 -> 511.25 | D15: =$D$12*0.25 -> 190 | E15: 0 | F15: 0 | G15: 0 | H15: =$H$5*0.5 -> 1005 | I15: =SUM($C15,$D15,$E15,$F15,$H15) -> 1706.25 | J15: =SUM($C15,$D15,$E15,$G15,$H15) -> 1706.25
B17: Summer (SU) | C17: Tuition & Fees | D17: Books & Supplies | E17: Personal Expenses | F17: Living Expenses | H17: Transportation | I17: Total
F18: Commuter | G18: On Campus | I18: Commuter | J18: On Campus
B19: Full Time | C19: 1224 | D19: 459 | E19: =$M$4*9 -> 780 | F19: =$M$5*9 -> 3117 | G19: - | H19: =$M$7*9 -> 603 | I19: =SUM($C19,$D19,$E19,$F19,$H19) -> 6183 | J19: -
B21: Fall | Summer (FSU) or | C21: Tuition & Fees | D21: Books & Supplies | E21: Personal Expenses | F21: Living Expenses | H21: Transportation | I21: Total
B22: Spring | Summer (SSU) | F22: Commuter | G22: On Campus | I22: Commuter | J22: On Campus
B23: Full Time | C23: =$C$12+$C$19 -> 3269 | D23: =$D$12+$D$19 -> 1219 | E23: =$E$12+$E$19 -> 2080 | F23: =$F$12+$F$19 -> 8312 | G23: =$G$12+$F$19 -> 7201 | H23: =$H$12+$H$19 -> 1608 | I23: =SUM($C23,$D23,$E23,$F23,$H23) -> 16488 | J23: =SUM($C23,$D23,$E23,$G23,$H23) -> 15377
B24: Three-Quarter Time | C24: =$C$23*0.75 -> 2451.75 | D24: =$D$23*0.75 -> 914.25 | E24: =$E$23 -> 2080 | F24: =$F$23 -> 8312 | G24: =$G$23 -> 7201 | H24: =$H$23 -> 1608 | I24: =SUM($C24,$D24,$E24,$F24,$H24) -> 15366 | J24: =SUM($C24,$D24,$E24,$G24,$H24) -> 14255
B25: Half-Time | C25: =$C$23*0.5 -> 1634.5 | D25: =$D$23*0.5 -> 609.5 | E25: =$E$23 -> 2080 | F25: =$F$23 -> 8312 | G25: =$G$23 -> 7201 | H25: =$H$23 -> 1608 | I25: =SUM($C25,$D25,$E25,$F25,$H25) -> 14244 | J25: =SUM($C25,$D25,$E25,$G25,$H25) -> 13133
B26: < Half-time | C26: =$C$23*0.25 -> 817.25 | D26: =$D$23*0.25 -> 304.75 | E26: - | F26: - | G26: - | H26: =$H$23 -> 1608 | I26: =SUM($C26,$D26,$E26,$F26,$H26) -> 2730 | J26: =SUM($C26,$D26,$E26,$G26,$H26) -> 2730
B28: 12 Month (12) | C28: Tuition & Fees | D28: Books & Supplies | E28: Personal Expenses | F28: Living Expenses | H28: Transportation | I28: Total
F29: Commuter | G29: On Campus | I29: Commuter | J29: On Campus
B30: Full Time | C30: =$C$5+$C$19 -> 5314 | D30: =$D$5+$D$19 -> 1979 | E30: =$E$5+$E$19 -> 3380 | F30: =$F$5+$F$19 -> 13507 | G30: =$G$5+$F$19 -> 11285 | H30: =$H$5+$H$19 -> 2613 | I30: =SUM($C30,$D30,$E30,$F30,$H30) -> 26793 | J30: =SUM($C30,$D30,$E30,$G30,$H30) -> 24571
B31: Three-Quarter Time | C31: =$C$30*0.75 -> 3985.5 | D31: =$D$30*0.75 -> 1484.25 | E31: =$E$30 -> 3380 | F31: =$F$30 -> 13507 | G31: =$G$30 -> 11285 | H31: =$H$30 -> 2613 | I31: =SUM($C31,$D31,$E31,$F31,$H31) -> 24969.75 | J31: =SUM($C31,$D31,$E31,$G31,$H31) -> 22747.75
B32: Half-Time | C32: =$C$30*0.5 -> 2657 | D32: =$D$30*0.5 -> 989.5 | E32: =$E$30 -> 3380 | F32: =$F$30 -> 13507 | G32: =$G$30 -> 11285 | H32: =$H$30 -> 2613 | I32: =SUM($C32,$D32,$E32,$F32,$H32) -> 23146.5 | J32: =SUM($C32,$D32,$E32,$G32,$H32) -> 20924.5
B33: < Half-time | C33: =$C$30*0.25 -> 1328.5 | D33: =$D$30*0.25 -> 494.75 | E33: - | F33: - | G33: - | H33: =$H$30 -> 2613 | I33: =SUM($C33,$D33,$E33,$F33,$H33) -> 4436.25 | J33: =SUM($C33,$D33,$E33,$G33,$H33) -> 4436.25

Sheet Out-Of-State Budget
B2: Out-of-State Budgets
B3: Fall | Spring (FS) | C3: Tuition & Fees | D3: Books & Supplies | E3: Personal Expenses | F3: Living Expenses | H3: Transportation | I3: Total | L3: Component Amounts per Week of Attendance
F4: Commuter | G4: On Campus | I4: Commuter | J4: On Campus | L4: Personal Expenses | M4: =$E$5/30 -> 86.666667
B5: Full Time | C5: 4592 | D5: ='In-State Budget'!D5 -> 1520 | E5: ='In-State Budget'!E5 -> 2600 | F5: ='In-State Budget'!F5 -> 10390 | G5: ='In-State Budget'!G5 -> 8168 | H5: ='In-State Budget'!H5 -> 2010 | I5: =SUM($C5,$D5,$E5,$F5,$H5) -> 21112 | J5: =SUM($C5,$D5,$E5,$G5,$H5) -> 18890 | L5: Living Expenses (Commuter) | M5: =$F$5/30 -> 346.33333
B6: Three-Quarter Time | C6: =$C$5*0.75 -> 3444 | D6: =$D$5*0.75 -> 1140 | E6: =$E$5 -> 2600 | F6: =$F$5 -> 10390 | G6: =$G$5 -> 8168 | H6: =$H$5 -> 2010 | I6: =SUM($C6,$D6,$E6,$F6,$H6) -> 19584 | J6: =SUM($C6,$D6,$E6,$G6,$H6) -> 17362 | L6: Living Expenses (On Campus) | M6: =$G$5/30 -> 272.26667
B7: Half-Time | C7: =$C$5*0.5 -> 2296 | D7: =$D$5*0.5 -> 760 | E7: =$E$5 -> 2600 | F7: =$F$5 -> 10390 | G7: =$G$5 -> 8168 | H7: =$H$5 -> 2010 | I7: =SUM($C7,$D7,$E7,$F7,$H7) -> 18056 | J7: =SUM($C7,$D7,$E7,$G7,$H7) -> 15834 | L7: Transportation | M7: =$H$5/30 -> 67
B8: < Half-time | C8: =$C$5*0.25 -> 1148 | D8: =$D$5*0.25 -> 380 | E8: 0 | F8: 0 | G8: 0 | H8: =$H$5 -> 2010 | I8: =SUM($C8,$D8,$E8,$F8,$H8) -> 3538 | J8: =SUM($C8,$D8,$E8,$G8,$H8) -> 3538
B10: Single Term (Fall or Spring) | C10: Tuition & Fees | D10: Books & Supplies | E10: Personal Expenses | F10: Living Expenses | H10: Transportation | I10: Total
F11: Commuter | G11: On Campus | I11: Commuter | J11: On Campus
B12: Full Time | C12: =$C$5*0.5 -> 2296 | D12: =$D$5*0.5 -> 760 | E12: =$E$5*0.5 -> 1300 | F12: =$F$5*0.5 -> 5195 | G12: =$G$5*0.5 -> 4084 | H12: =$H$5*0.5 -> 1005 | I12: =SUM($C12,$D12,$E12,$F12,$H12) -> 10556 | J12: =SUM($C12,$D12,$E12,$G12,$H12) -> 9445
B13: Three-Quarter Time | C13: =$C$12*0.75 -> 1722 | D13: =$D$12*0.75 -> 570 | E13: =$E$5*0.5 -> 1300 | F13: =$F$5*0.5 -> 5195 | G13: =$G$5*0.5 -> 4084 | H13: =$H$5*0.5 -> 1005 | I13: =SUM($C13,$D13,$E13,$F13,$H13) -> 9792 | J13: =SUM($C13,$D13,$E13,$G13,$H13) -> 8681
B14: Half-Time | C14: =$C$12*0.5 -> 1148 | D14: =$D$12*0.5 -> 380 | E14: =$E$5*0.5 -> 1300 | F14: =$F$5*0.5 -> 5195 | G14: =$G$5*0.5 -> 4084 | H14: =$H$5*0.5 -> 1005 | I14: =SUM($C14,$D14,$E14,$F14,$H14) -> 9028 | J14: =SUM($C14,$D14,$E14,$G14,$H14) -> 7917
B15: < Half-time | C15: =$C$12*0.25 -> 574 | D15: =$D$12*0.25 -> 190 | E15: 0 | F15: 0 | G15: 0 | H15: =$H$5*0.5 -> 1005 | I15: =SUM($C15,$D15,$E15,$F15,$H15) -> 1769 | J15: =SUM($C15,$D15,$E15,$G15,$H15) -> 1769
B17: Summer (SU) | C17: Tuition & Fees | D17: Books & Supplies | E17: Personal Expenses | F17: Living Expenses | H17: Transportation | I17: Total
F18: Commuter | G18: On Campus | I18: Commuter | J18: On Campus
B19: Full Time | C19: 1377 | D19: ='In-State Budget'!D19 -> 459 | E19: =$M$4*9 -> 780 | F19: =$M$5*9 -> 3117 | G19: - | H19: =$M$7*9 -> 603 | I19: =SUM($C19,$D19,$E19,$F19,$H19) -> 6336 | J19: -
B21: Fall | Summer (FSU) or | C21: Tuition & Fees | D21: Books & Supplies | E21: Personal Expenses | F21: Living Expenses | H21: Transportation | I21: Total
B22: Spring | Summer (SSU) | F22: Commuter | G22: On Campus | I22: Commuter | J22: On Campus
B23: Full Time | C23: =$C$12+$C$19 -> 3673 | D23: =$D$12+$D$19 -> 1219 | E23: =$E$12+$E$19 -> 2080 | F23: =$F$12+$F$19 -> 8312 | G23: =$G$12+$F$19 -> 7201 | H23: =$H$12+$H$19 -> 1608 | I23: =SUM($C23,$D23,$E23,$F23,$H23) -> 16892 | J23: =SUM($C23,$D23,$E23,$G23,$H23) -> 15781
B24: Three-Quarter Time | C24: =$C$23*0.75 -> 2754.75 | D24: =$D$23*0.75 -> 914.25 | E24: =$E$23 -> 2080 | F24: =$F$23 -> 8312 | G24: =$G$23 -> 7201 | H24: =$H$23 -> 1608 | I24: =SUM($C24,$D24,$E24,$F24,$H24) -> 15669 | J24: =SUM($C24,$D24,$E24,$G24,$H24) -> 14558
B25: Half-Time | C25: =$C$23*0.5 -> 1836.5 | D25: =$D$23*0.5 -> 609.5 | E25: =$E$23 -> 2080 | F25: =$F$23 -> 8312 | G25: =$G$23 -> 7201 | H25: =$H$23 -> 1608 | I25: =SUM($C25,$D25,$E25,$F25,$H25) -> 14446 | J25: =SUM($C25,$D25,$E25,$G25,$H25) -> 13335
B26: < Half-time | C26: =$C$23*0.25 -> 918.25 | D26: =$D$23*0.25 -> 304.75 | E26: - | F26: - | G26: - | H26: =$H$23 -> 1608 | I26: =SUM($C26,$D26,$E26,$F26,$H26) -> 2831 | J26: =SUM($C26,$D26,$E26,$G26,$H26) -> 2831
B28: 12 Month (12) | C28: Tuition & Fees | D28: Books & Supplies | E28: Personal Expenses | F28: Living Expenses | H28: Transportation | I28: Total
F29: Commuter | G29: On Campus | I29: Commuter | J29: On Campus
B30: Full Time | C30: =$C$5+$C$19 -> 5969 | D30: =$D$5+$D$19 -> 1979 | E30: =$E$5+$E$19 -> 3380 | F30: =$F$5+$F$19 -> 13507 | G30: =$G$5+$F$19 -> 11285 | H30: =$H$5+$H$19 -> 2613 | I30: =SUM($C30,$D30,$E30,$F30,$H30) -> 27448 | J30: =SUM($C30,$D30,$E30,$G30,$H30) -> 25226
B31: Three-Quarter Time | C31: =$C$30*0.75 -> 4476.75 | D31: =$D$30*0.75 -> 1484.25 | E31: =$E$30 -> 3380 | F31: =$F$30 -> 13507 | G31: =$G$30 -> 11285 | H31: =$H$30 -> 2613 | I31: =SUM($C31,$D31,$E31,$F31,$H31) -> 25461 | J31: =SUM($C31,$D31,$E31,$G31,$H31) -> 23239
B32: Half-Time | C32: =$C$30*0.5 -> 2984.5 | D32: =$D$30*0.5 -> 989.5 | E32: =$E$30 -> 3380 | F32: =$F$30 -> 13507 | G32: =$G$30 -> 11285 | H32: =$H$30 -> 2613 | I32: =SUM($C32,$D32,$E32,$F32,$H32) -> 23474 | J32: =SUM($C32,$D32,$E32,$G32,$H32) -> 21252
B33: < Half-time | C33: =$C$30*0.25 -> 1492.25 | D33: =$D$30*0.25 -> 494.75 | E33: - | F33: - | G33: - | H33: =$H$30 -> 2613 | I33: =SUM($C33,$D33,$E33,$F33,$H33) -> 4600 | J33: =SUM($C33,$D33,$E33,$G33,$H33) -> 4600

Sheet Prorations
B2: Weekly Budget Calculations:
B4: Commuter Student | G4: On Campus Student
B5: Component Amounts per Week of Attendance | G5: Component Amounts per Week of Attendance
B6: Personal Expenses | D6: ='In-State Budget'!M4 -> 86.666667 | G6: Personal Expenses | I6: ='In-State Budget'!M4 -> 86.666667
B7: Room & Board | D7: ='In-State Budget'!M5 -> 346.33333 | G7: Room & Board | I7: ='In-State Budget'!M6 -> 272.26667
B8: Transporation | D8: ='In-State Budget'!M7 -> 67 | G8: Transporation | I8: ='In-State Budget'!M7 -> 67
B11: Weeks | C11: Personal Expenses | D11: Living Expenses | E11: Transportation | G11: Weeks | H11: Personal Expenses | I11: Living Expenses | J11: Transportation
B12: 4 | C12: =$D$6*$B12 -> 346.66667 | D12: =$D$7*$B12 -> 1385.3333 | E12: =$D$8*$B12 -> 268 | G12: 4 | H12: =$I$6*$G12 -> 346.66667 | I12: =$I$7*$G12 -> 1089.0667 | J12: =$I$8*$G12 -> 268
B13: 5 | C13: =$D$6*$B13 -> 433.33333 | D13: =$D$7*$B13 -> 1731.6667 | E13: =$D$8*$B13 -> 335 | G13: 5 | H13: =$I$6*$G13 -> 433.33333 | I13: =$I$7*$G13 -> 1361.3333 | J13: =$I$8*$G13 -> 335
B14: 6 | C14: =$D$6*$B14 -> 520 | D14: =$D$7*$B14 -> 2078 | E14: =$D$8*$B14 -> 402 | G14: 6 | H14: =$I$6*$G14 -> 520 | I14: =$I$7*$G14 -> 1633.6 | J14: =$I$8*$G14 -> 402
B15: 7 | C15: =$D$6*$B15 -> 606.66667 | D15: =$D$7*$B15 -> 2424.3333 | E15: =$D$8*$B15 -> 469 | G15: 7 | H15: =$I$6*$G15 -> 606.66667 | I15: =$I$7*$G15 -> 1905.8667 | J15: =$I$8*$G15 -> 469
B16: 8 | C16: =$D$6*$B16 -> 693.33333 | D16: =$D$7*$B16 -> 2770.6667 | E16: =$D$8*$B16 -> 536 | G16: 8 | H16: =$I$6*$G16 -> 693.33333 | I16: =$I$7*$G16 -> 2178.1333 | J16: =$I$8*$G16 -> 536
B17: 9 | C17: =$D$6*$B17 -> 780 | D17: =$D$7*$B17 -> 3117 | E17: =$D$8*$B17 -> 603 | G17: 9 | H17: =$I$6*$G17 -> 780 | I17: =$I$7*$G17 -> 2450.4 | J17: =$I$8*$G17 -> 603
B18: 10 | C18: =$D$6*$B18 -> 866.66667 | D18: =$D$7*$B18 -> 3463.3333 | E18: =$D$8*$B18 -> 670 | G18: 10 | H18: =$I$6*$G18 -> 866.66667 | I18: =$I$7*$G18 -> 2722.6667 | J18: =$I$8*$G18 -> 670
B19: 11 | C19: =$D$6*$B19 -> 953.33333 | D19: =$D$7*$B19 -> 3809.6667 | E19: =$D$8*$B19 -> 737 | G19: 11 | H19: =$I$6*$G19 -> 953.33333 | I19: =$I$7*$G19 -> 2994.9333 | J19: =$I$8*$G19 -> 737
B20: 12 | C20: =$D$6*$B20 -> 1040 | D20: =$D$7*$B20 -> 4156 | E20: =$D$8*$B20 -> 804 | G20: 12 | H20: =$I$6*$G20 -> 1040 | I20: =$I$7*$G20 -> 3267.2 | J20: =$I$8*$G20 -> 804
B21: 13 | C21: =$D$6*$B21 -> 1126.6667 | D21: =$D$7*$B21 -> 4502.3333 | E21: =$D$8*$B21 -> 871 | G21: 13 | H21: =$I$6*$G21 -> 1126.6667 | I21: =$I$7*$G21 -> 3539.4667 | J21: =$I$8*$G21 -> 871
B22: 14 | C22: =$D$6*$B22 -> 1213.3333 | D22: =$D$7*$B22 -> 4848.6667 | E22: =$D$8*$B22 -> 938 | G22: 14 | H22: =$I$6*$G22 -> 1213.3333 | I22: =$I$7*$G22 -> 3811.7333 | J22: =$I$8*$G22 -> 938
B23: 15 | C23: =$D$6*$B23 -> 1300 | D23: =$D$7*$B23 -> 5195 | E23: =$D$8*$B23 -> 1005 | G23: 15 | H23: =$I$6*$G23 -> 1300 | I23: =$I$7*$G23 -> 4084 | J23: =$I$8*$G23 -> 1005
... B29: 21 | C29: =$D$6*$B29 -> 1820 | D29: =$D$7*$B29 -> 7273 | E29: =$D$8*$B29 -> 1407 | G29: 21 | H29: =$I$6*$G29 -> 1820 | I29: =$I$7*$G29 -> 5717.6 | J29: =$I$8*$G29 -> 1407

Sheet Non-Standard Components
E2: Additional budget components that may be added on a case-by-case basis to the base budget include the following:
E4: Loan Fees: | G4: Loan fees are added at the actual rate that the student pays. 1.057%
B5: Annual | C5: /Semester
B6: As determined | E6: Child/Elder Care: for dependents 5 years for age or under, or for eldercare. These expenses are taken from an annual survey done of local daycare and Barton daycare services.
G9: # of Children/Elders | I9: 1 | J9: 2
G10: Budget
G11: Full/Spring (Full) | I11: 4124 | J11: 6186
G12: Fall | I12: 2062 | J12: 3093
G13: Spring | I13: 2062 | J13: 3093
G14: Summer | I14: 1031 | J14: 1546
B16: Annual | C16: /Semester
B17: 1376 | C17: =$B17/2 -> 688 | E17: Nursing Expenses: An expense of $1,376 will be added for all students who are in Barton's LPN or RN programs.
B18: 700 | C18: =$B18/2 -> 350 | E18: Natural Gas Expenses: An expense of $700 will be added for all students who are in Barton's Natural Gas program.
B19: 600 | C19: =$B19/2 -> 300 | E19: MLT Expense: An expense of $600 will be added for all students who are in Barton's MLT program.
B20: 1200 | C20: =$B20/2 -> 600 | E20: Welding Expenses: An expense of $1,200 will be added for all students in the Welding program.
B21: 100 | E21: Nursing Licensure Expense: $100 (Spring)
B22: 1864 | C22: =$B22/2 -> 932 | E22: Clinical Expenses: These expenses will be added for all Nursing and MLT students who are doing clinicals.
H24: Clincial Expenses
I25: Term Budget | J25: Annual Budget
H26: Meals | I26: 480 | J26: 960
H27: Housing | I27: 432 | J27: 864
H28: Transportation | I28: 20 | J28: 40
H29: Total | I29: 932 | J29: 1864
B31: Annual | C31: /Semester
B32: As Determined | E32: ADA Expenses: actual documented expenses.

Sheet SCP - Pell COA
A1: Students taking part in Second Chance Pell - Residents in Correctional Facilities
C2: Component | D2: Component Amount
A3: *Incarecerated students are not eligible for Federal student loans, only federal Pell Grant funds. | C3: Tuition & Fees | D3: 4749
A4: *The PELL COA follows the same guidance as non-SCP students and is built based on Full-time/Full-year enrollment | C4: Books & Supplies | D4: See Comments
A5: *12 Credit hours of tuition/fees were used to determine the T&FE component. This is an estimated average to use for awarding. This include 6 hours at the F2F rate of $131 and 6 hours at the online rate of $165. This also includes a $50 outreach fee per credit hour.
A6: * B&S components - $200 flat fee will be added to students with book charges.
A8: * Actual program fees will be added on a case-by-case basis based on what charges are actually applied to their student account in the following programs/amounts
A9: Welding - $800

Sheet Student Facing COA
A2: 2025-26 Cost of Attendance
A3: Barton develops a Cost of Attendance (COA) based on average costs for the following standard components: • Tuition and Fees • Books, Course Materials, Supplies, and Equipment • Living Expenses (Food and Housing) • Personal Expenses • Transportation Barton uses the College Board’s Trends in College Pricing data to derive figures for these individual components to support a moderate standard of living. Barton awards students based on anticipated full-time enrollment and adjusts their COA based on actual enrollment level if the student is enrolled less than full-time.
F5: Number of Hours | L5: Enrollment Status
F6: 12+ hours | L6: Full-Time
F7: 9-11 hours | L7: Three-Quarter Time
F8: 6-8 hours | L8: Half-Time
F9: 1-5 hours | L9: Less Than Half-Time
A11: Barton also awards aid based on a 30-week year; 15 weeks each for fall and spring. Barton adjusts the Room & Board, Personal Expenses, Transportation Expenses to the actual weeks of attendance less than or beyond a 15-week semester. When a specific component of a student’s budget is paid by another resource such as a third-party, Barton adjusts the COA to reflect only those expenses for which the student is responsible during their enrollment period.
A14: Other than the five standard components, Barton may add other components to the COA for additional educationally-related expenses. See chart below.
A16: Additional Component | H16: Under What Circumstances? | P16: Process for Adding This
A17: Dependent Care Expenses | H17: An allowance for students with dependent care expenses (child or elder care) based upon estimated expenses for care services. | P17: Students complete the Title IV Survey in their Student Portal indicating if they have dependent care expenses and for how many individuals.
A18: Loan Fees | H18: Loan fees are added to the student’s COA once the student has accepted a Federal Direct Student Loan. | P18: A system process is run that calculates and adds this. The amount is then manually added to the student’s COA.
A19: Disability Expenses | H19: An allowance for students with educational expenses related to a disability. | P19: Students appeal for an adjustment to the COA if they have education-related disability expenses which are not otherwise accommodated.
A20: Nursing Program Expenses | H20: If a student is in Barton’s LPN or RN programs, expenses are added to the COA. | P20: If a student is in Barton’s LPN or RN programs, expenses are added to the COA.
A21: MLT Program Expenses | H21: If a student is seeking an MLT degree, expenses will be added to the COA. | P21: If a student is seeking an MLT degree, expenses will be added to the COA.
A22: Welding Program Expenses | H22: If a student is in the Welding program, expenses are added to the COA. | P22: If a student is in the Welding program, expenses are added to the COA.
A23: Natural Gas Program Expense | H23: If a student is in the Natural Gas Program, expenses are added to the COA. | P23: If a student is in the Natural Gas Program, expenses are added to the COA.
A24: Nursing Clinical Expenses | H24: If a student is in Barton’s LPN or RN programs, clinical expenses are added to the COA. | P24: If a student is in Barton’s LPN or RN programs, clinical expenses are added to the COA.
A25: One-time cost of first professional credential | H25: An allowance for licensing credential | P25: The cost is added for those programs for which a professional license fee is assessed.
A26: Room and board for less-than-half-time student for not more than three semesters, of which not more than two can be consecutive | H26: An allowance for room and board expenses for less-than-half-time allowed within the identified constraints | P26: Students appeal for an adjustment to the COA.
A28: For students who have extraordinary expenses beyond what the COA reflects, per federal law Barton may adjust the COA using Professional Judgment. To request an increase in their COA, a student must submit a written appeal with supporting documentation of additional expenses to financialaid@bartonccc.edu.
A30: Fall and Spring Semesters
A31: Full Time
A32: Commuter Students Living Off-Campus or with Parents
F33: One Term (Fall or Spring) In-State | J33: One Term (Fall or Spring) Out-of-State | O33: Annual (Fall and Spring) In-State | S33: Annual (Fall and Spring) Out-of-State
A34: Tuition & Fees | G34: ='In-State Budget'!$C$12 -> 2045 | K34: ='Out-Of-State Budget'!$C$12 -> 2296 | P34: ='In-State Budget'!$C$5 -> 4090 | T34: ='Out-Of-State Budget'!$C$5 -> 4592
A35: Books & Supplies | G35: ='In-State Budget'!$D$12 -> 760 | K35: ='Out-Of-State Budget'!$D$12 -> 760 | P35: ='In-State Budget'!$D$5 -> 1520 | T35: ='Out-Of-State Budget'!$D$5 -> 1520
A36: Personal Expenses | G36: ='In-State Budget'!$E$12 -> 1300 | K36: ='Out-Of-State Budget'!$E$12 -> 1300 | P36: ='In-State Budget'!$E$5 -> 2600 | T36: ='Out-Of-State Budget'!$E$5 -> 2600
A37: Living Expenses | G37: ='In-State Budget'!$F$12 -> 5195 | K37: ='Out-Of-State Budget'!$F$12 -> 5195 | P37: ='In-State Budget'!$F$5 -> 10390 | T37: ='Out-Of-State Budget'!$F$5 -> 10390
A38: Transportation | G38: ='In-State Budget'!$H$12 -> 1005 | K38: ='Out-Of-State Budget'!$H$12 -> 1005 | P38: ='In-State Budget'!$H$5 -> 2010 | T38: ='Out-Of-State Budget'!$H$5 -> 2010
A39: Total | G39: ='In-State Budget'!$I$12 -> 10305 | K39: ='Out-Of-State Budget'!$I$12 -> 10556 | P39: ='In-State Budget'!$I$5 -> 20610 | T39: ='Out-Of-State Budget'!$I$5 -> 21112
A41: Fall and Spring Semesters
A42: Full Time
A43: Students Living On-Campus
F44: One Term (Fall or Spring) In-State | J44: One Term (Fall or Spring) Out-of-State | O44: Annual (Fall and Spring) In-State | S44: Annual (Fall and Spring) Out-of-State
A45: Tuition & Fees | G45: ='In-State Budget'!$C$12 -> 2045 | K45: ='Out-Of-State Budget'!$C$12 -> 2296 | P45: ='In-State Budget'!$C$5 -> 4090 | T45: ='Out-Of-State Budget'!$C$5 -> 4592
A46: Books & Supplies | G46: ='In-State Budget'!$D$12 -> 760 | K46: ='Out-Of-State Budget'!$D$12 -> 760 | P46: ='In-State Budget'!$D$5 -> 1520 | T46: ='Out-Of-State Budget'!$D$5 -> 1520
A47: Personal Expenses | G47: ='In-State Budget'!$E$12 -> 1300 | K47: ='Out-Of-State Budget'!$E$12 -> 1300 | P47: ='In-State Budget'!$E$5 -> 2600 | T47: ='Out-Of-State Budget'!$E$5 -> 2600
A48: Living Expenses | G48: ='In-State Budget'!$G$12 -> 4084 | K48: 4084 | P48: ='In-State Budget'!$G$5 -> 8168 | T48: ='In-State Budget'!$G$5 -> 8168
A49: Transportation | G49: ='In-State Budget'!$H$12 -> 1005 | K49: ='Out-Of-State Budget'!$H$12 -> 1005 | P49: ='In-State Budget'!$H$5 -> 2010 | T49: ='Out-Of-State Budget'!$H$5 -> 2010
...
